View In:
ArcGIS JavaScript
ArcGIS Online Map Viewer
ArcGIS Earth
Service Description: Sentinel-3/Sentinel_3_RBD_Daily_Images
Name: Sentinel-3/Sentinel_3_RBD_Daily_Images
Description:
Single Fused Map Cache: false
Extent:
XMin: 30000
YMin: 5320651.047599999
XMax: 873300
YMax: 6439651.047599999
Spatial Reference: 32629
(32629)
Initial Extent:
XMin: 30000
YMin: 5320651.047599999
XMax: 873300
YMax: 6439651.047599999
Spatial Reference: 32629
(32629)
Full Extent:
XMin: 30000
YMin: 5320651.047599999
XMax: 873300
YMax: 6439651.047599999
Spatial Reference: 32629
(32629)
Time Info:
Start Time Field: Date
End Time Field: Date
Time Extent:
[2019/05/14 00:00:00 UTC, 2025/02/20 00:00:00 UTC]
Time Reference:
N/A
Pixel Size X: 300.0
Pixel Size Y: 300.0
Band Count: 1
Pixel Type: U8
RasterFunction Infos: {"rasterFunctionInfos": [
{
"name": "sentinel_symbology",
"description": "Symbology for sentinel-3 rbd Algal Blooms",
"help": ""
},
{
"name": "None",
"description": "",
"help": ""
}
]}
Mensuration Capabilities: Basic
Inspection Capabilities:
Has Histograms: false
Has Colormap: false
Has Multi Dimensions : false
Rendering Rule:
Min Scale: 0
Max Scale: 0
Resampling: false
Copyright Text:
Service Data Type: esriImageServiceDataTypeGeneric
Min Values: N/A
Max Values: N/A
Mean Values: N/A
Standard Deviation Values: N/A
Object ID Field: OBJECTID
Fields:
-
OBJECTID
(
type: esriFieldTypeOID, alias: OBJECTID
)
-
Shape
(
type: esriFieldTypeGeometry, alias: Shape
)
-
Name
(
type: esriFieldTypeString, alias: Name, length: 200
)
-
MinPS
(
type: esriFieldTypeDouble, alias: MinPS
)
-
MaxPS
(
type: esriFieldTypeDouble, alias: MaxPS
)
-
LowPS
(
type: esriFieldTypeDouble, alias: LowPS
)
-
HighPS
(
type: esriFieldTypeDouble, alias: HighPS
)
-
Category
(
type: esriFieldTypeInteger, alias: Category
, Coded Values:
[0: Unknown]
, [1: Primary]
, [2: Overview]
, ...6 more...
)
-
Tag
(
type: esriFieldTypeString, alias: Tag, length: 100
)
-
GroupName
(
type: esriFieldTypeString, alias: GroupName, length: 100
)
-
ProductName
(
type: esriFieldTypeString, alias: ProductName, length: 100
)
-
CenterX
(
type: esriFieldTypeDouble, alias: CenterX
)
-
CenterY
(
type: esriFieldTypeDouble, alias: CenterY
)
-
ZOrder
(
type: esriFieldTypeInteger, alias: ZOrder
)
-
Shape_Length
(
type: esriFieldTypeDouble, alias: Shape_Length
)
-
Shape_Area
(
type: esriFieldTypeDouble, alias: Shape_Area
)
-
No_detection
(
type: esriFieldTypeDouble, alias: No_detection
)
-
ChlA_coverage
(
type: esriFieldTypeDouble, alias: ChlA_coverage
)
-
Cloud_coverage
(
type: esriFieldTypeDouble, alias: Cloud_coverage
)
-
Date
(
type: esriFieldTypeDateOnly, alias: Start_Date
)
Default Mosaic Method: Northwest
Allowed Mosaic Methods: NorthWest,Center,LockRaster,ByAttribute,Nadir,Viewpoint,Seamline,None
SortField:
SortValue: null
Mosaic Operator: First
Default Compression Quality: 75
Default Resampling Method: Bilinear
Max Record Count: 5000
Max Image Height: 8000
Max Image Width: 8000
Max Download Image Count: 5000
Max Mosaic Image Count: 5000
Allow Raster Function: true
Allow Copy: true
Allow Analysis: true
Allow Compute TiePoints: true
Supports Statistics: true
Supports Advanced Queries: true
Use StandardizedQueries: true
Raster Type Infos:
Name: Raster Dataset
Description: Supports all ArcGIS Raster Datasets
Help:
Has Raster Attribute Table: false
Edit Fields Info: null
Ownership Based AccessControl For Rasters: null
Child Resources:
Info
Statistics
Key Properties
Legend
Raster Function Infos
Supported Operations:
Export Image
Query
Identify
Download Rasters
Get Image Url
Measure
Compute Histograms
Compute Statistics Histograms
Get Samples
Compute Class Statistics
Query GPS Info
Find Images
Image to Map
Map to Image
Measure from Image
Image to Map Multiray
Query Boundary
Compute Pixel Location
Compute Angles
Validate
Project
Compute Tie Points